BEGIN:VCALENDAR
PRODID:-//Pixl8//Eventfolio//EN
VERSION:2.0
X-WR-TIMEZONE:Europe/London
CALSCALE:GREGORIAN
METHOD:PUBLISH
CLASS:PUBLIC
BEGIN:VTIMEZONE
TZID:Europe/London
LAST-MODIFIED:20260306T231828Z
TZURL:https://www.tzurl.org/zoneinfo-outlook/Europe/London
X-LIC-LOCATION:Europe/London
BEGIN:DAYLIGHT
TZNAME:BST
TZOFFSETFROM:+0000
TZOFFSETTO:+0100
DTSTART:19700329T010000
RRULE:FREQ=YEARLY;BYMONTH=3;BYDAY=-1SU
END:DAYLIGHT
BEGIN:STANDARD
TZNAME:GMT
TZOFFSETFROM:+0100
TZOFFSETTO:+0000
DTSTART:19701025T020000
RRULE:FREQ=YEARLY;BYMONTH=10;BYDAY=-1SU
END:STANDARD
END:VTIMEZONE
BEGIN:VEVENT
DTSTART;TZID=Europe/London:20250827T110000
DTEND;TZID=Europe/London:20250827T120000
DTSTAMP:20260425T172730Z
UID:{39185F1A-82C4-4E45-B3C9957F65FB6476}
LOCATION:Online
SUMMARY:Navigating university life as a neurodivergent student 
DESCRIPTION:This free Student Minds event from will feature speakers from the organisation's neurodivergent student steering group to discuss the upcoming 'Life as a neurodivergent student' resources. Together, they’ll explore the key challenges neurodivergent students face and what universities can do to create a more inclusive and supportive environment. \n
 \n
 Event details: https://www.amosshe.org.uk/latest/event-calendar/navigating-university-life-as-a-neurodivergent-student.html
PRIORITY:1
END:VEVENT
END:VCALENDAR