BEGIN:VCALENDAR
PRODID:-//Pixl8//Eventfolio//EN
VERSION:2.0
X-WR-TIMEZONE:Europe/London
CALSCALE:GREGORIAN
METHOD:PUBLISH
CLASS:PUBLIC
BEGIN:VTIMEZONE
TZID:Europe/London
LAST-MODIFIED:20260306T231828Z
TZURL:https://www.tzurl.org/zoneinfo-outlook/Europe/London
X-LIC-LOCATION:Europe/London
BEGIN:DAYLIGHT
TZNAME:BST
TZOFFSETFROM:+0000
TZOFFSETTO:+0100
DTSTART:19700329T010000
RRULE:FREQ=YEARLY;BYMONTH=3;BYDAY=-1SU
END:DAYLIGHT
BEGIN:STANDARD
TZNAME:GMT
TZOFFSETFROM:+0100
TZOFFSETTO:+0000
DTSTART:19701025T020000
RRULE:FREQ=YEARLY;BYMONTH=10;BYDAY=-1SU
END:STANDARD
END:VTIMEZONE
BEGIN:VEVENT
DTSTART;TZID=Europe/London;VALUE=DATE:20250619
DTEND;TZID=Europe/London;VALUE=DATE:20250621
DTSTAMP:20260423T161913Z
UID:{95038E96-B6AD-4197-896A36755E60EE5B}
LOCATION:Salford\, United Kingdom
SUMMARY:NEON summer symposium 2025
DESCRIPTION:This NEON (National Education Opportunities Network) event explores the theme ‘my hometown – the importance of place in widening access and student success’.\n
 \n
 Event details: https://www.amosshe.org.uk/latest/event-calendar/neon-summer-symposium-2025.html
PRIORITY:1
END:VEVENT
END:VCALENDAR