BEGIN:VCALENDAR
PRODID:-//Pixl8//Eventfolio//EN
VERSION:2.0
X-WR-TIMEZONE:Europe/London
CALSCALE:GREGORIAN
METHOD:PUBLISH
CLASS:PUBLIC
BEGIN:VTIMEZONE
TZID:Europe/London
LAST-MODIFIED:20260306T231828Z
TZURL:https://www.tzurl.org/zoneinfo-outlook/Europe/London
X-LIC-LOCATION:Europe/London
BEGIN:DAYLIGHT
TZNAME:BST
TZOFFSETFROM:+0000
TZOFFSETTO:+0100
DTSTART:19700329T010000
RRULE:FREQ=YEARLY;BYMONTH=3;BYDAY=-1SU
END:DAYLIGHT
BEGIN:STANDARD
TZNAME:GMT
TZOFFSETFROM:+0100
TZOFFSETTO:+0000
DTSTART:19701025T020000
RRULE:FREQ=YEARLY;BYMONTH=10;BYDAY=-1SU
END:STANDARD
END:VTIMEZONE
BEGIN:VEVENT
DTSTART;TZID=Europe/London;VALUE=DATE:20260319
DTEND;TZID=Europe/London;VALUE=DATE:20260320
DTSTAMP:20260425T172919Z
UID:{5E6DF2A7-0733-49AA-B5BB6093C4DA98A3}
LOCATION:Online
SUMMARY:Neurodiversity awareness in the workplace
DESCRIPTION:This MyPD event gives you the information, summary knowledge and the ability to have meaningful conversations with a neurodiverse person.\n
 \n
 Event details: https://www.amosshe.org.uk/latest/event-calendar/neurodiversity-awareness-in-the-workplace-4.html
PRIORITY:1
END:VEVENT
END:VCALENDAR