BEGIN:VCALENDAR
PRODID:-//Pixl8//Eventfolio//EN
VERSION:2.0
X-WR-TIMEZONE:Europe/London
CALSCALE:GREGORIAN
METHOD:PUBLISH
CLASS:PUBLIC
BEGIN:VTIMEZONE
TZID:Europe/London
LAST-MODIFIED:20260306T231828Z
TZURL:https://www.tzurl.org/zoneinfo-outlook/Europe/London
X-LIC-LOCATION:Europe/London
BEGIN:DAYLIGHT
TZNAME:BST
TZOFFSETFROM:+0000
TZOFFSETTO:+0100
DTSTART:19700329T010000
RRULE:FREQ=YEARLY;BYMONTH=3;BYDAY=-1SU
END:DAYLIGHT
BEGIN:STANDARD
TZNAME:GMT
TZOFFSETFROM:+0100
TZOFFSETTO:+0000
DTSTART:19701025T020000
RRULE:FREQ=YEARLY;BYMONTH=10;BYDAY=-1SU
END:STANDARD
END:VTIMEZONE
BEGIN:VEVENT
DTSTART;TZID=Europe/London;VALUE=DATE:20260416
DTEND;TZID=Europe/London;VALUE=DATE:20260417
DTSTAMP:20260423T234209Z
UID:{41604171-42FD-4F0B-8D702B34AF933E32}
LOCATION:Online
SUMMARY:Neurodiversity awareness in the workplace
DESCRIPTION:This MyPD event gives you the information, summary knowledge and the ability to have meaningful conversations with a neurodiverse person.\n
 \n
 Event details: https://www.amosshe.org.uk/latest/event-calendar/neurodiversity-awareness-in-the-workplace-5.html
PRIORITY:1
END:VEVENT
END:VCALENDAR