BEGIN:VCALENDAR
PRODID:-//Pixl8//Eventfolio//EN
VERSION:2.0
X-WR-TIMEZONE:Europe/London
CALSCALE:GREGORIAN
METHOD:PUBLISH
CLASS:PUBLIC
BEGIN:VTIMEZONE
TZID:Europe/London
LAST-MODIFIED:20260306T231828Z
TZURL:https://www.tzurl.org/zoneinfo-outlook/Europe/London
X-LIC-LOCATION:Europe/London
BEGIN:DAYLIGHT
TZNAME:BST
TZOFFSETFROM:+0000
TZOFFSETTO:+0100
DTSTART:19700329T010000
RRULE:FREQ=YEARLY;BYMONTH=3;BYDAY=-1SU
END:DAYLIGHT
BEGIN:STANDARD
TZNAME:GMT
TZOFFSETFROM:+0100
TZOFFSETTO:+0000
DTSTART:19701025T020000
RRULE:FREQ=YEARLY;BYMONTH=10;BYDAY=-1SU
END:STANDARD
END:VTIMEZONE
BEGIN:VEVENT
DTSTART;TZID=Europe/London:20241127T130000
DTEND;TZID=Europe/London:20241127T140000
DTSTAMP:20260423T112147Z
UID:{68D5D0EE-200E-4B7B-A45E4829A5EF4172}
LOCATION:Online
SUMMARY:New guidance for suicide prevention in higher education
DESCRIPTION:This free Symplicity event shares the guidance on reducing risk and restricting access to means of suicide in higher education contexts.\n
 \n
 Event details: https://www.amosshe.org.uk/latest/event-calendar/new-guidance-for-suicide-prevention-in-higher-education.html
PRIORITY:1
END:VEVENT
END:VCALENDAR