BEGIN:VCALENDAR
PRODID:-//Pixl8//Eventfolio//EN
VERSION:2.0
X-WR-TIMEZONE:Europe/London
CALSCALE:GREGORIAN
METHOD:PUBLISH
CLASS:PUBLIC
BEGIN:VTIMEZONE
TZID:Europe/London
LAST-MODIFIED:20260306T231828Z
TZURL:https://www.tzurl.org/zoneinfo-outlook/Europe/London
X-LIC-LOCATION:Europe/London
BEGIN:DAYLIGHT
TZNAME:BST
TZOFFSETFROM:+0000
TZOFFSETTO:+0100
DTSTART:19700329T010000
RRULE:FREQ=YEARLY;BYMONTH=3;BYDAY=-1SU
END:DAYLIGHT
BEGIN:STANDARD
TZNAME:GMT
TZOFFSETFROM:+0100
TZOFFSETTO:+0000
DTSTART:19701025T020000
RRULE:FREQ=YEARLY;BYMONTH=10;BYDAY=-1SU
END:STANDARD
END:VTIMEZONE
BEGIN:VEVENT
DTSTART;TZID=Europe/London;VALUE=DATE:20241004
DTEND;TZID=Europe/London;VALUE=DATE:20241005
DTSTAMP:20260426T015435Z
UID:{68C7FF44-EC42-4D11-A855A5C89820B282}
LOCATION:Online
SUMMARY:Next steps for graduate outcomes and employability in the UK
DESCRIPTION:This Westminster Higher Education Forum event discusses how to improve graduate outcomes and employability in the UK.\n
 \n
 Event details: https://www.amosshe.org.uk/latest/event-calendar/next-steps-for-graduate-outcomes-and-employability-in-the-uk.html
PRIORITY:1
END:VEVENT
END:VCALENDAR