BEGIN:VCALENDAR
PRODID:-//Pixl8//Eventfolio//EN
VERSION:2.0
X-WR-TIMEZONE:Europe/London
CALSCALE:GREGORIAN
METHOD:PUBLISH
CLASS:PUBLIC
BEGIN:VTIMEZONE
TZID:Europe/London
LAST-MODIFIED:20260306T231828Z
TZURL:https://www.tzurl.org/zoneinfo-outlook/Europe/London
X-LIC-LOCATION:Europe/London
BEGIN:DAYLIGHT
TZNAME:BST
TZOFFSETFROM:+0000
TZOFFSETTO:+0100
DTSTART:19700329T010000
RRULE:FREQ=YEARLY;BYMONTH=3;BYDAY=-1SU
END:DAYLIGHT
BEGIN:STANDARD
TZNAME:GMT
TZOFFSETFROM:+0100
TZOFFSETTO:+0000
DTSTART:19701025T020000
RRULE:FREQ=YEARLY;BYMONTH=10;BYDAY=-1SU
END:STANDARD
END:VTIMEZONE
BEGIN:VEVENT
DTSTART;TZID=Europe/London;VALUE=DATE:20241209
DTEND;TZID=Europe/London;VALUE=DATE:20241210
DTSTAMP:20260425T163040Z
UID:{6C4E12C4-3AFD-4CF4-B75AC252A822B4D0}
LOCATION:Online
SUMMARY:Next steps for improving student mental health in higher education
DESCRIPTION:This Westminster Forum Projects event examines the direction of policy under the new Government following the target for all higher education providers to have signed up to the University Mental Health Charter programme.\n
 \n
 Event details: https://www.amosshe.org.uk/latest/event-calendar/next-steps-for-improving-student-mental-health-in-higher-education.html
PRIORITY:1
END:VEVENT
END:VCALENDAR