BEGIN:VCALENDAR
PRODID:-//Pixl8//Eventfolio//EN
VERSION:2.0
X-WR-TIMEZONE:Europe/London
CALSCALE:GREGORIAN
METHOD:PUBLISH
CLASS:PUBLIC
BEGIN:VTIMEZONE
TZID:Europe/London
LAST-MODIFIED:20260306T231828Z
TZURL:https://www.tzurl.org/zoneinfo-outlook/Europe/London
X-LIC-LOCATION:Europe/London
BEGIN:DAYLIGHT
TZNAME:BST
TZOFFSETFROM:+0000
TZOFFSETTO:+0100
DTSTART:19700329T010000
RRULE:FREQ=YEARLY;BYMONTH=3;BYDAY=-1SU
END:DAYLIGHT
BEGIN:STANDARD
TZNAME:GMT
TZOFFSETFROM:+0100
TZOFFSETTO:+0000
DTSTART:19701025T020000
RRULE:FREQ=YEARLY;BYMONTH=10;BYDAY=-1SU
END:STANDARD
END:VTIMEZONE
BEGIN:VEVENT
DTSTART;TZID=Europe/London;VALUE=DATE:20241118
DTEND;TZID=Europe/London;VALUE=DATE:20241119
DTSTAMP:20260423T110813Z
UID:{6CB47B08-AD56-4D56-BE091F568947BDF8}
LOCATION:Online
SUMMARY:Next steps for student housing in the UK
DESCRIPTION:This Westminster Higher Education Forum event examines key issues for the future of student housing in higher education in the UK.\n
 \n
 Event details: https://www.amosshe.org.uk/latest/event-calendar/next-steps-for-student-housing-in-the-uk.html
PRIORITY:1
END:VEVENT
END:VCALENDAR