BEGIN:VCALENDAR
PRODID:-//Pixl8//Eventfolio//EN
VERSION:2.0
X-WR-TIMEZONE:Europe/London
CALSCALE:GREGORIAN
METHOD:PUBLISH
CLASS:PUBLIC
BEGIN:VTIMEZONE
TZID:Europe/London
LAST-MODIFIED:20260306T231828Z
TZURL:https://www.tzurl.org/zoneinfo-outlook/Europe/London
X-LIC-LOCATION:Europe/London
BEGIN:DAYLIGHT
TZNAME:BST
TZOFFSETFROM:+0000
TZOFFSETTO:+0100
DTSTART:19700329T010000
RRULE:FREQ=YEARLY;BYMONTH=3;BYDAY=-1SU
END:DAYLIGHT
BEGIN:STANDARD
TZNAME:GMT
TZOFFSETFROM:+0100
TZOFFSETTO:+0000
DTSTART:19701025T020000
RRULE:FREQ=YEARLY;BYMONTH=10;BYDAY=-1SU
END:STANDARD
END:VTIMEZONE
BEGIN:VEVENT
DTSTART;TZID=Europe/London:20250311T133000
DTEND;TZID=Europe/London:20250311T143000
DTSTAMP:20260425T163105Z
UID:{D1B4245B-AFA6-48B3-8DDC38CC6101820F}
LOCATION:Online
SUMMARY:OfS / AMOSSHE: provider experience of supporting disabled students in HE
DESCRIPTION:This Office for Students (OfS) event in partnership with AMOSSHE shares your experiences of supporting disabled students, with a focus on reasonable adjustments and learning support plans. Everyone is welcome to join, and we particularly welcome colleagues from small and mid-size higher education providers.\n
 \n
 Event details: https://www.amosshe.org.uk/latest/event-calendar/ofs-amosshe-provider-experience-of-supporting-disabled-students-in-he.html
PRIORITY:1
END:VEVENT
END:VCALENDAR