BEGIN:VCALENDAR
PRODID:-//Pixl8//Eventfolio//EN
VERSION:2.0
X-WR-TIMEZONE:America/New_York
CALSCALE:GREGORIAN
METHOD:PUBLISH
CLASS:PUBLIC
BEGIN:VTIMEZONE
TZID:America/New_York
LAST-MODIFIED:20260306T231828Z
TZURL:https://www.tzurl.org/zoneinfo-outlook/America/New_York
X-LIC-LOCATION:America/New_York
BEGIN:DAYLIGHT
TZNAME:EDT
TZOFFSETFROM:-0500
TZOFFSETTO:-0400
DTSTART:19700308T020000
RRULE:FREQ=YEARLY;BYMONTH=3;BYDAY=2SU
END:DAYLIGHT
BEGIN:STANDARD
TZNAME:EST
TZOFFSETFROM:-0400
TZOFFSETTO:-0500
DTSTART:19701101T020000
RRULE:FREQ=YEARLY;BYMONTH=11;BYDAY=1SU
END:STANDARD
END:VTIMEZONE
BEGIN:VEVENT
DTSTART;TZID=America/New_York;VALUE=DATE:20250130
DTEND;TZID=America/New_York;VALUE=DATE:20250131
DTSTAMP:20260423T112009Z
UID:{C6AB4526-71BE-4F99-B3DA1F36B30B9132}
LOCATION:Online
SUMMARY:Online orientation trends for 2025: elevating student engagement, accessibility & onboarding
DESCRIPTION:This free US-based Innovative Educators event draws on survey data to pull seven emerging trends that are redefining online orientations.\n
 \n
 Event details: https://www.amosshe.org.uk/latest/event-calendar/online-orientation-trends-for-2025-elevating-student-engagement-accessibility-onboarding.html
PRIORITY:1
END:VEVENT
END:VCALENDAR