BEGIN:VCALENDAR
PRODID:-//Pixl8//Eventfolio//EN
VERSION:2.0
X-WR-TIMEZONE:Europe/London
CALSCALE:GREGORIAN
METHOD:PUBLISH
CLASS:PUBLIC
BEGIN:VTIMEZONE
TZID:Europe/London
LAST-MODIFIED:20260306T231828Z
TZURL:https://www.tzurl.org/zoneinfo-outlook/Europe/London
X-LIC-LOCATION:Europe/London
BEGIN:DAYLIGHT
TZNAME:BST
TZOFFSETFROM:+0000
TZOFFSETTO:+0100
DTSTART:19700329T010000
RRULE:FREQ=YEARLY;BYMONTH=3;BYDAY=-1SU
END:DAYLIGHT
BEGIN:STANDARD
TZNAME:GMT
TZOFFSETFROM:+0100
TZOFFSETTO:+0000
DTSTART:19701025T020000
RRULE:FREQ=YEARLY;BYMONTH=10;BYDAY=-1SU
END:STANDARD
END:VTIMEZONE
BEGIN:VEVENT
DTSTART;TZID=Europe/London;VALUE=DATE:20250429
DTEND;TZID=Europe/London;VALUE=DATE:20250430
DTSTAMP:20260425T174629Z
UID:{12E8D553-1795-4ED4-83B5A3ECA8A8E009}
LOCATION:Online
SUMMARY:Practical coaching skills for fostering students’ self-reliance and independence
DESCRIPTION:This Plinth House event discusses the positive impact we can have, whatever our role, by using practical coaching skills to empower students.\n
 \n
 Event details: https://www.amosshe.org.uk/latest/event-calendar/practical-coaching-skills-for-fostering-students-self-reliance-and-independence.html
PRIORITY:1
END:VEVENT
END:VCALENDAR