BEGIN:VCALENDAR
PRODID:-//Pixl8//Eventfolio//EN
VERSION:2.0
X-WR-TIMEZONE:Europe/London
CALSCALE:GREGORIAN
METHOD:PUBLISH
CLASS:PUBLIC
BEGIN:VTIMEZONE
TZID:Europe/London
LAST-MODIFIED:20260306T231828Z
TZURL:https://www.tzurl.org/zoneinfo-outlook/Europe/London
X-LIC-LOCATION:Europe/London
BEGIN:DAYLIGHT
TZNAME:BST
TZOFFSETFROM:+0000
TZOFFSETTO:+0100
DTSTART:19700329T010000
RRULE:FREQ=YEARLY;BYMONTH=3;BYDAY=-1SU
END:DAYLIGHT
BEGIN:STANDARD
TZNAME:GMT
TZOFFSETFROM:+0100
TZOFFSETTO:+0000
DTSTART:19701025T020000
RRULE:FREQ=YEARLY;BYMONTH=10;BYDAY=-1SU
END:STANDARD
END:VTIMEZONE
BEGIN:VEVENT
DTSTART;TZID=Europe/London;VALUE=DATE:20251016
DTEND;TZID=Europe/London;VALUE=DATE:20251017
DTSTAMP:20260423T141429Z
UID:{AD694051-1F68-4851-946998E3C11C97D3}
LOCATION:Online
SUMMARY:Precise writing with impact
DESCRIPTION:This Civil Service College explores how to reorganise your editorial writing to fit your reader’s needs.\n
 \n
 Event details: https://www.amosshe.org.uk/latest/event-calendar/precise-writing-with-impact-2.html
PRIORITY:1
END:VEVENT
END:VCALENDAR