BEGIN:VCALENDAR
PRODID:-//Pixl8//Eventfolio//EN
VERSION:2.0
X-WR-TIMEZONE:Europe/London
CALSCALE:GREGORIAN
METHOD:PUBLISH
CLASS:PUBLIC
BEGIN:VTIMEZONE
TZID:Europe/London
LAST-MODIFIED:20260306T231828Z
TZURL:https://www.tzurl.org/zoneinfo-outlook/Europe/London
X-LIC-LOCATION:Europe/London
BEGIN:DAYLIGHT
TZNAME:BST
TZOFFSETFROM:+0000
TZOFFSETTO:+0100
DTSTART:19700329T010000
RRULE:FREQ=YEARLY;BYMONTH=3;BYDAY=-1SU
END:DAYLIGHT
BEGIN:STANDARD
TZNAME:GMT
TZOFFSETFROM:+0100
TZOFFSETTO:+0000
DTSTART:19701025T020000
RRULE:FREQ=YEARLY;BYMONTH=10;BYDAY=-1SU
END:STANDARD
END:VTIMEZONE
BEGIN:VEVENT
DTSTART;TZID=Europe/London;VALUE=DATE:20260309
DTEND;TZID=Europe/London;VALUE=DATE:20260310
DTSTAMP:20260423T141613Z
UID:{DEA76389-FA62-4EB6-A14D4ED1472853AB}
LOCATION:London\, United Kingdom
SUMMARY:Protecting students from transnational repression
DESCRIPTION:This free UK Government Department for Education invites you to discuss how to raise sector awareness and co-develop best practice when managing the risks of foreign interference.\n
 \n
 Event details: https://www.amosshe.org.uk/latest/event-calendar/protecting-students-from-transnational-repression.html
PRIORITY:1
END:VEVENT
END:VCALENDAR