BEGIN:VCALENDAR
PRODID:-//Pixl8//Eventfolio//EN
VERSION:2.0
X-WR-TIMEZONE:Europe/London
CALSCALE:GREGORIAN
METHOD:PUBLISH
CLASS:PUBLIC
BEGIN:VTIMEZONE
TZID:Europe/London
LAST-MODIFIED:20260306T231828Z
TZURL:https://www.tzurl.org/zoneinfo-outlook/Europe/London
X-LIC-LOCATION:Europe/London
BEGIN:DAYLIGHT
TZNAME:BST
TZOFFSETFROM:+0000
TZOFFSETTO:+0100
DTSTART:19700329T010000
RRULE:FREQ=YEARLY;BYMONTH=3;BYDAY=-1SU
END:DAYLIGHT
BEGIN:STANDARD
TZNAME:GMT
TZOFFSETFROM:+0100
TZOFFSETTO:+0000
DTSTART:19701025T020000
RRULE:FREQ=YEARLY;BYMONTH=10;BYDAY=-1SU
END:STANDARD
END:VTIMEZONE
BEGIN:VEVENT
DTSTART;TZID=Europe/London:20250514T150000
DTEND;TZID=Europe/London:20250514T160000
DTSTAMP:20260425T173528Z
UID:{01C8BF02-B0F8-4E3A-AA18952931E1A9BE}
LOCATION:Online
SUMMARY:Protecting the interests of students during industrial action
DESCRIPTION:This free Office for Students event shares the regulator’s expectations on how providers should support students throughout an industrial action process.\n
 \n
 Event details: https://www.amosshe.org.uk/latest/event-calendar/protecting-the-interests-of-students-during-industrial-action.html
PRIORITY:1
END:VEVENT
END:VCALENDAR