BEGIN:VCALENDAR
PRODID:-//Pixl8//Eventfolio//EN
VERSION:2.0
X-WR-TIMEZONE:Europe/London
CALSCALE:GREGORIAN
METHOD:PUBLISH
CLASS:PUBLIC
BEGIN:VTIMEZONE
TZID:Europe/London
LAST-MODIFIED:20260306T231828Z
TZURL:https://www.tzurl.org/zoneinfo-outlook/Europe/London
X-LIC-LOCATION:Europe/London
BEGIN:DAYLIGHT
TZNAME:BST
TZOFFSETFROM:+0000
TZOFFSETTO:+0100
DTSTART:19700329T010000
RRULE:FREQ=YEARLY;BYMONTH=3;BYDAY=-1SU
END:DAYLIGHT
BEGIN:STANDARD
TZNAME:GMT
TZOFFSETFROM:+0100
TZOFFSETTO:+0000
DTSTART:19701025T020000
RRULE:FREQ=YEARLY;BYMONTH=10;BYDAY=-1SU
END:STANDARD
END:VTIMEZONE
BEGIN:VEVENT
DTSTART;TZID=Europe/London:20250227T120000
DTEND;TZID=Europe/London:20250227T133000
DTSTAMP:20260425T162507Z
UID:{ED8E026B-B728-4B75-B12738B2A5F03AB6}
LOCATION:Online
SUMMARY:Protective security webinar for education settings
DESCRIPTION:This free UK government Department for Education event provides you with an overview and update on the proposed ‘Protection of Premises Bill’, known as ‘Martyn’s Law’, and its implications for the education sector.\n
 \n
 Event details: https://www.amosshe.org.uk/latest/event-calendar/protective-security-webinar-for-education-settings.html
PRIORITY:1
END:VEVENT
END:VCALENDAR