BEGIN:VCALENDAR
PRODID:-//Pixl8//Eventfolio//EN
VERSION:2.0
X-WR-TIMEZONE:Europe/London
CALSCALE:GREGORIAN
METHOD:PUBLISH
CLASS:PUBLIC
BEGIN:VTIMEZONE
TZID:Europe/London
LAST-MODIFIED:20260306T231828Z
TZURL:https://www.tzurl.org/zoneinfo-outlook/Europe/London
X-LIC-LOCATION:Europe/London
BEGIN:DAYLIGHT
TZNAME:BST
TZOFFSETFROM:+0000
TZOFFSETTO:+0100
DTSTART:19700329T010000
RRULE:FREQ=YEARLY;BYMONTH=3;BYDAY=-1SU
END:DAYLIGHT
BEGIN:STANDARD
TZNAME:GMT
TZOFFSETFROM:+0100
TZOFFSETTO:+0000
DTSTART:19701025T020000
RRULE:FREQ=YEARLY;BYMONTH=10;BYDAY=-1SU
END:STANDARD
END:VTIMEZONE
BEGIN:VEVENT
DTSTART;TZID=Europe/London:20241121T100000
DTEND;TZID=Europe/London:20241121T110000
DTSTAMP:20260423T141938Z
UID:{81413756-2F9B-4A22-96A57E24D31E9A29}
LOCATION:Online
SUMMARY:QAA-funded Compassionate Assessment Network event
DESCRIPTION:This free Quality Assurance Agency for Higher Education (QAA) event explores the social effects of assessment on students’ inclusion, belonging and identities.\n
 \n
 Event details: https://www.amosshe.org.uk/latest/event-calendar/qaa-funded-compassionate-assessment-network-event.html
PRIORITY:1
END:VEVENT
END:VCALENDAR