BEGIN:VCALENDAR
PRODID:-//Pixl8//Eventfolio//EN
VERSION:2.0
X-WR-TIMEZONE:Europe/London
CALSCALE:GREGORIAN
METHOD:PUBLISH
CLASS:PUBLIC
BEGIN:VTIMEZONE
TZID:Europe/London
LAST-MODIFIED:20260306T231828Z
TZURL:https://www.tzurl.org/zoneinfo-outlook/Europe/London
X-LIC-LOCATION:Europe/London
BEGIN:DAYLIGHT
TZNAME:BST
TZOFFSETFROM:+0000
TZOFFSETTO:+0100
DTSTART:19700329T010000
RRULE:FREQ=YEARLY;BYMONTH=3;BYDAY=-1SU
END:DAYLIGHT
BEGIN:STANDARD
TZNAME:GMT
TZOFFSETFROM:+0100
TZOFFSETTO:+0000
DTSTART:19701025T020000
RRULE:FREQ=YEARLY;BYMONTH=10;BYDAY=-1SU
END:STANDARD
END:VTIMEZONE
BEGIN:VEVENT
DTSTART;TZID=Europe/London;VALUE=DATE:20241112
DTEND;TZID=Europe/London;VALUE=DATE:20241113
DTSTAMP:20260425T231709Z
UID:{AFFEF42D-4FC9-4CA8-B7ED7D0164E26587}
LOCATION:Online
SUMMARY:Reducing wrongful hospitalisation for Neurodivergent young people
DESCRIPTION:This GovConnect event focuses on addressing the critical issue of wrongful hospitalisation for neurodivergent young people.\n
 \n
 Event details: https://www.amosshe.org.uk/latest/event-calendar/reducing-wrongful-hospitalisation-for-neurodivergent-young-people.html
PRIORITY:1
END:VEVENT
END:VCALENDAR