BEGIN:VCALENDAR
PRODID:-//Pixl8//Eventfolio//EN
VERSION:2.0
X-WR-TIMEZONE:America/New_York
CALSCALE:GREGORIAN
METHOD:PUBLISH
CLASS:PUBLIC
BEGIN:VTIMEZONE
TZID:America/New_York
LAST-MODIFIED:20260306T231828Z
TZURL:https://www.tzurl.org/zoneinfo-outlook/America/New_York
X-LIC-LOCATION:America/New_York
BEGIN:DAYLIGHT
TZNAME:EDT
TZOFFSETFROM:-0500
TZOFFSETTO:-0400
DTSTART:19700308T020000
RRULE:FREQ=YEARLY;BYMONTH=3;BYDAY=2SU
END:DAYLIGHT
BEGIN:STANDARD
TZNAME:EST
TZOFFSETFROM:-0400
TZOFFSETTO:-0500
DTSTART:19701101T020000
RRULE:FREQ=YEARLY;BYMONTH=11;BYDAY=1SU
END:STANDARD
END:VTIMEZONE
BEGIN:VEVENT
DTSTART;TZID=America/New_York;VALUE=DATE:20251113
DTEND;TZID=America/New_York;VALUE=DATE:20251114
DTSTAMP:20260423T161559Z
UID:{5C622DBB-FEDF-4F5F-88D3A7923C7C3476}
LOCATION:Online
SUMMARY:Reframing failure: supporting students on academic probation
DESCRIPTION:This free US-based Innovative Educators event provides practical strategies for staff to build learner support programmes.\n
 \n
 Event details: https://www.amosshe.org.uk/latest/event-calendar/reframing-failure-supporting-students-on-academic-probation.html
PRIORITY:1
END:VEVENT
END:VCALENDAR