BEGIN:VCALENDAR
PRODID:-//Pixl8//Eventfolio//EN
VERSION:2.0
X-WR-TIMEZONE:Europe/London
CALSCALE:GREGORIAN
METHOD:PUBLISH
CLASS:PUBLIC
BEGIN:VTIMEZONE
TZID:Europe/London
LAST-MODIFIED:20260306T231828Z
TZURL:https://www.tzurl.org/zoneinfo-outlook/Europe/London
X-LIC-LOCATION:Europe/London
BEGIN:DAYLIGHT
TZNAME:BST
TZOFFSETFROM:+0000
TZOFFSETTO:+0100
DTSTART:19700329T010000
RRULE:FREQ=YEARLY;BYMONTH=3;BYDAY=-1SU
END:DAYLIGHT
BEGIN:STANDARD
TZNAME:GMT
TZOFFSETFROM:+0100
TZOFFSETTO:+0000
DTSTART:19701025T020000
RRULE:FREQ=YEARLY;BYMONTH=10;BYDAY=-1SU
END:STANDARD
END:VTIMEZONE
BEGIN:VEVENT
DTSTART;TZID=Europe/London;VALUE=DATE:20250626
DTEND;TZID=Europe/London;VALUE=DATE:20250627
DTSTAMP:20260425T162449Z
UID:{CFF08D7A-C20D-4783-83885B3FA6601FC5}
LOCATION:Online
SUMMARY:Religious inclusion: uniting beliefs at work conference 2025
DESCRIPTION:This Government Events conference invites you to join to collaborate on innovative approaches to harness the full potential of your organisation by considering religion and belief inclusion.\n
 \n
 Event details: https://www.amosshe.org.uk/latest/event-calendar/religious-inclusion-uniting-beliefs-at-work-conference-2025.html
PRIORITY:1
END:VEVENT
END:VCALENDAR