BEGIN:VCALENDAR
PRODID:-//Pixl8//Eventfolio//EN
VERSION:2.0
X-WR-TIMEZONE:Europe/London
CALSCALE:GREGORIAN
METHOD:PUBLISH
CLASS:PUBLIC
BEGIN:VTIMEZONE
TZID:Europe/London
LAST-MODIFIED:20260306T231828Z
TZURL:https://www.tzurl.org/zoneinfo-outlook/Europe/London
X-LIC-LOCATION:Europe/London
BEGIN:DAYLIGHT
TZNAME:BST
TZOFFSETFROM:+0000
TZOFFSETTO:+0100
DTSTART:19700329T010000
RRULE:FREQ=YEARLY;BYMONTH=3;BYDAY=-1SU
END:DAYLIGHT
BEGIN:STANDARD
TZNAME:GMT
TZOFFSETFROM:+0100
TZOFFSETTO:+0000
DTSTART:19701025T020000
RRULE:FREQ=YEARLY;BYMONTH=10;BYDAY=-1SU
END:STANDARD
END:VTIMEZONE
BEGIN:VEVENT
DTSTART;TZID=Europe/London:20241203T093000
DTEND;TZID=Europe/London:20241203T163000
DTSTAMP:20260425T162645Z
UID:{CCBA667A-8FAD-423C-83800AD9DB71491C}
LOCATION:London\, United Kingdom\, online
SUMMARY:Research and innovation conference 2024
DESCRIPTION:This Universities UK event explores how universities can navigate the innovation funding landscape, form enterprise partnerships, and look ahead to the next Research Excellence Framework.\n
 \n
 Event details: https://www.amosshe.org.uk/latest/event-calendar/research-and-innovation-conference-2024.html
PRIORITY:1
END:VEVENT
END:VCALENDAR