BEGIN:VCALENDAR
PRODID:-//Pixl8//Eventfolio//EN
VERSION:2.0
X-WR-TIMEZONE:Europe/London
CALSCALE:GREGORIAN
METHOD:PUBLISH
CLASS:PUBLIC
BEGIN:VTIMEZONE
TZID:Europe/London
LAST-MODIFIED:20260306T231828Z
TZURL:https://www.tzurl.org/zoneinfo-outlook/Europe/London
X-LIC-LOCATION:Europe/London
BEGIN:DAYLIGHT
TZNAME:BST
TZOFFSETFROM:+0000
TZOFFSETTO:+0100
DTSTART:19700329T010000
RRULE:FREQ=YEARLY;BYMONTH=3;BYDAY=-1SU
END:DAYLIGHT
BEGIN:STANDARD
TZNAME:GMT
TZOFFSETFROM:+0100
TZOFFSETTO:+0000
DTSTART:19701025T020000
RRULE:FREQ=YEARLY;BYMONTH=10;BYDAY=-1SU
END:STANDARD
END:VTIMEZONE
BEGIN:VEVENT
DTSTART;TZID=Europe/London;VALUE=DATE:20260312
DTEND;TZID=Europe/London;VALUE=DATE:20260313
DTSTAMP:20260423T110156Z
UID:{6467B1FF-8D42-4FDA-9706E5D970BB13CE}
LOCATION:London\, United Kingdom
SUMMARY:Rethinking student wellbeing support
DESCRIPTION:This free TASO (Transforming Access and Student Outcomes in Higher Education) event explore what’s helping or hindering student wellbeing and mental health.\n
 \n
 Event details: https://www.amosshe.org.uk/latest/event-calendar/rethinking-student-wellbeing-support.html
PRIORITY:1
END:VEVENT
END:VCALENDAR