BEGIN:VCALENDAR
PRODID:-//Pixl8//Eventfolio//EN
VERSION:2.0
X-WR-TIMEZONE:Europe/London
CALSCALE:GREGORIAN
METHOD:PUBLISH
CLASS:PUBLIC
BEGIN:VTIMEZONE
TZID:Europe/London
LAST-MODIFIED:20260306T231828Z
TZURL:https://www.tzurl.org/zoneinfo-outlook/Europe/London
X-LIC-LOCATION:Europe/London
BEGIN:DAYLIGHT
TZNAME:BST
TZOFFSETFROM:+0000
TZOFFSETTO:+0100
DTSTART:19700329T010000
RRULE:FREQ=YEARLY;BYMONTH=3;BYDAY=-1SU
END:DAYLIGHT
BEGIN:STANDARD
TZNAME:GMT
TZOFFSETFROM:+0100
TZOFFSETTO:+0000
DTSTART:19701025T020000
RRULE:FREQ=YEARLY;BYMONTH=10;BYDAY=-1SU
END:STANDARD
END:VTIMEZONE
BEGIN:VEVENT
DTSTART;TZID=Europe/London;VALUE=DATE:20241002
DTEND;TZID=Europe/London;VALUE=DATE:20241003
DTSTAMP:20260425T162952Z
UID:{84600391-8F1D-4FC5-84E2214D1672A06E}
LOCATION:Online
SUMMARY:Review and conquer: mastering the end of year performance magic
DESCRIPTION:This free Impact Factory event is designed to help you excel in your end-of-year reviews.\n
 \n
 Event details: https://www.amosshe.org.uk/latest/event-calendar/review-and-conquer-mastering-the-end-of-year-performance-magic.html
PRIORITY:1
END:VEVENT
END:VCALENDAR