BEGIN:VCALENDAR
PRODID:-//Pixl8//Eventfolio//EN
VERSION:2.0
X-WR-TIMEZONE:Europe/London
CALSCALE:GREGORIAN
METHOD:PUBLISH
CLASS:PUBLIC
BEGIN:VTIMEZONE
TZID:Europe/London
LAST-MODIFIED:20260306T231828Z
TZURL:https://www.tzurl.org/zoneinfo-outlook/Europe/London
X-LIC-LOCATION:Europe/London
BEGIN:DAYLIGHT
TZNAME:BST
TZOFFSETFROM:+0000
TZOFFSETTO:+0100
DTSTART:19700329T010000
RRULE:FREQ=YEARLY;BYMONTH=3;BYDAY=-1SU
END:DAYLIGHT
BEGIN:STANDARD
TZNAME:GMT
TZOFFSETFROM:+0100
TZOFFSETTO:+0000
DTSTART:19701025T020000
RRULE:FREQ=YEARLY;BYMONTH=10;BYDAY=-1SU
END:STANDARD
END:VTIMEZONE
BEGIN:VEVENT
DTSTART;TZID=Europe/London;VALUE=DATE:20250107
DTEND;TZID=Europe/London;VALUE=DATE:20250108
DTSTAMP:20260423T111702Z
UID:{711A35C9-6D3C-4D2C-9C285527077A4D1F}
LOCATION:Online
SUMMARY:Social media marketing – creating engaging content
DESCRIPTION:This GovPD event equips you with the latest trends and tactics to increase brand awareness, customer engagement and convince your target audiences to take the next step with you.\n
 \n
 Event details: https://www.amosshe.org.uk/latest/event-calendar/social-media-marketing-creating-engaging-content.html
PRIORITY:1
END:VEVENT
END:VCALENDAR