BEGIN:VCALENDAR
PRODID:-//Pixl8//Eventfolio//EN
VERSION:2.0
X-WR-TIMEZONE:Europe/London
CALSCALE:GREGORIAN
METHOD:PUBLISH
CLASS:PUBLIC
BEGIN:VTIMEZONE
TZID:Europe/London
LAST-MODIFIED:20260306T231828Z
TZURL:https://www.tzurl.org/zoneinfo-outlook/Europe/London
X-LIC-LOCATION:Europe/London
BEGIN:DAYLIGHT
TZNAME:BST
TZOFFSETFROM:+0000
TZOFFSETTO:+0100
DTSTART:19700329T010000
RRULE:FREQ=YEARLY;BYMONTH=3;BYDAY=-1SU
END:DAYLIGHT
BEGIN:STANDARD
TZNAME:GMT
TZOFFSETFROM:+0100
TZOFFSETTO:+0000
DTSTART:19701025T020000
RRULE:FREQ=YEARLY;BYMONTH=10;BYDAY=-1SU
END:STANDARD
END:VTIMEZONE
BEGIN:VEVENT
DTSTART;TZID=Europe/London;VALUE=DATE:20250204
DTEND;TZID=Europe/London;VALUE=DATE:20250205
DTSTAMP:20260423T162339Z
UID:{957900DF-0535-4F85-A5380A3ED3DE128E}
LOCATION:Online
SUMMARY:Social media strategy and analytics
DESCRIPTION:This GovPd event discovers how to think strategically about social media and implement initiatives to ensure activity helps achieve marketing and communication goals.\n
 \n
 Event details: https://www.amosshe.org.uk/latest/event-calendar/social-media-strategy-and-analytics-1.html
PRIORITY:1
END:VEVENT
END:VCALENDAR