BEGIN:VCALENDAR
PRODID:-//Pixl8//Eventfolio//EN
VERSION:2.0
X-WR-TIMEZONE:Europe/London
CALSCALE:GREGORIAN
METHOD:PUBLISH
CLASS:PUBLIC
BEGIN:VTIMEZONE
TZID:Europe/London
LAST-MODIFIED:20260306T231828Z
TZURL:https://www.tzurl.org/zoneinfo-outlook/Europe/London
X-LIC-LOCATION:Europe/London
BEGIN:DAYLIGHT
TZNAME:BST
TZOFFSETFROM:+0000
TZOFFSETTO:+0100
DTSTART:19700329T010000
RRULE:FREQ=YEARLY;BYMONTH=3;BYDAY=-1SU
END:DAYLIGHT
BEGIN:STANDARD
TZNAME:GMT
TZOFFSETFROM:+0100
TZOFFSETTO:+0000
DTSTART:19701025T020000
RRULE:FREQ=YEARLY;BYMONTH=10;BYDAY=-1SU
END:STANDARD
END:VTIMEZONE
BEGIN:VEVENT
DTSTART;TZID=Europe/London;VALUE=DATE:20251209
DTEND;TZID=Europe/London;VALUE=DATE:20251210
DTSTAMP:20260423T110427Z
UID:{4F3FCBAD-5824-4294-9BC4BD8172AC938B}
LOCATION:Online
SUMMARY:Speaking and presenting with impact
DESCRIPTION:This MyPD event you’ll conquer your fear of presenting, and you’ll leave confident, persuasive, as an influential communicator, ready to make a lasting impression in any professional setting.\n
 \n
 Event details: https://www.amosshe.org.uk/latest/event-calendar/speaking-and-presenting-with-impact-1.html
PRIORITY:1
END:VEVENT
END:VCALENDAR