BEGIN:VCALENDAR
PRODID:-//Pixl8//Eventfolio//EN
VERSION:2.0
X-WR-TIMEZONE:Europe/London
CALSCALE:GREGORIAN
METHOD:PUBLISH
CLASS:PUBLIC
BEGIN:VTIMEZONE
TZID:Europe/London
LAST-MODIFIED:20260306T231828Z
TZURL:https://www.tzurl.org/zoneinfo-outlook/Europe/London
X-LIC-LOCATION:Europe/London
BEGIN:DAYLIGHT
TZNAME:BST
TZOFFSETFROM:+0000
TZOFFSETTO:+0100
DTSTART:19700329T010000
RRULE:FREQ=YEARLY;BYMONTH=3;BYDAY=-1SU
END:DAYLIGHT
BEGIN:STANDARD
TZNAME:GMT
TZOFFSETFROM:+0100
TZOFFSETTO:+0000
DTSTART:19701025T020000
RRULE:FREQ=YEARLY;BYMONTH=10;BYDAY=-1SU
END:STANDARD
END:VTIMEZONE
BEGIN:VEVENT
DTSTART;TZID=Europe/London;VALUE=DATE:20241118
DTEND;TZID=Europe/London;VALUE=DATE:20241119
DTSTAMP:20260423T142035Z
UID:{7572D446-4406-4F83-9ED9A3B79CB64CB3}
LOCATION:Online
SUMMARY:Stoned again? Cannabis dependency and harm reduction
DESCRIPTION:This Drugs Training event provides a comprehensive overview of current issues relating to cannabis use in the UK.\n
 \n
 Event details: https://www.amosshe.org.uk/latest/event-calendar/stoned-again-cannabis-dependency-and-harm-reduction.html
PRIORITY:1
END:VEVENT
END:VCALENDAR