BEGIN:VCALENDAR
PRODID:-//Pixl8//Eventfolio//EN
VERSION:2.0
X-WR-TIMEZONE:Europe/London
CALSCALE:GREGORIAN
METHOD:PUBLISH
CLASS:PUBLIC
BEGIN:VTIMEZONE
TZID:Europe/London
LAST-MODIFIED:20260306T231828Z
TZURL:https://www.tzurl.org/zoneinfo-outlook/Europe/London
X-LIC-LOCATION:Europe/London
BEGIN:DAYLIGHT
TZNAME:BST
TZOFFSETFROM:+0000
TZOFFSETTO:+0100
DTSTART:19700329T010000
RRULE:FREQ=YEARLY;BYMONTH=3;BYDAY=-1SU
END:DAYLIGHT
BEGIN:STANDARD
TZNAME:GMT
TZOFFSETFROM:+0100
TZOFFSETTO:+0000
DTSTART:19701025T020000
RRULE:FREQ=YEARLY;BYMONTH=10;BYDAY=-1SU
END:STANDARD
END:VTIMEZONE
BEGIN:VEVENT
DTSTART;TZID=Europe/London:20241112T100000
DTEND;TZID=Europe/London:20241112T160000
DTSTAMP:20260423T105540Z
UID:{B8C60C47-F6B9-426F-B594FBBFE15BF20A}
LOCATION:London\, United Kingdom
SUMMARY:Strategic thinking
DESCRIPTION:This Civil Service College event explores the concept of strategic thinking and practise using the different tools to think strategically in the face of an ever-evolving workplace.\n
 \n
 Event details: https://www.amosshe.org.uk/latest/event-calendar/strategic-thinking-1.html
PRIORITY:1
END:VEVENT
END:VCALENDAR