BEGIN:VCALENDAR
PRODID:-//Pixl8//Eventfolio//EN
VERSION:2.0
X-WR-TIMEZONE:Europe/London
CALSCALE:GREGORIAN
METHOD:PUBLISH
CLASS:PUBLIC
BEGIN:VTIMEZONE
TZID:Europe/London
LAST-MODIFIED:20260306T231828Z
TZURL:https://www.tzurl.org/zoneinfo-outlook/Europe/London
X-LIC-LOCATION:Europe/London
BEGIN:DAYLIGHT
TZNAME:BST
TZOFFSETFROM:+0000
TZOFFSETTO:+0100
DTSTART:19700329T010000
RRULE:FREQ=YEARLY;BYMONTH=3;BYDAY=-1SU
END:DAYLIGHT
BEGIN:STANDARD
TZNAME:GMT
TZOFFSETFROM:+0100
TZOFFSETTO:+0000
DTSTART:19701025T020000
RRULE:FREQ=YEARLY;BYMONTH=10;BYDAY=-1SU
END:STANDARD
END:VTIMEZONE
BEGIN:VEVENT
DTSTART;TZID=Europe/London;VALUE=DATE:20260114
DTEND;TZID=Europe/London;VALUE=DATE:20260115
DTSTAMP:20260425T200847Z
UID:{B945E029-E8EC-4384-81CF484E109A9E93}
LOCATION:Online
SUMMARY:Strategies for minoritised women in leadership
DESCRIPTION:This MyPD event is designed to equip minoritised women with the knowledge, skills, and strategies needed to overcome doubt, break through systemic barriers, and excel as influential leaders.\n
 \n
 Event details: https://www.amosshe.org.uk/latest/event-calendar/strategies-for-minoritised-women-in-leadership.html
PRIORITY:1
END:VEVENT
END:VCALENDAR