BEGIN:VCALENDAR
PRODID:-//Pixl8//Eventfolio//EN
VERSION:2.0
X-WR-TIMEZONE:America/New_York
CALSCALE:GREGORIAN
METHOD:PUBLISH
CLASS:PUBLIC
BEGIN:VTIMEZONE
TZID:America/New_York
LAST-MODIFIED:20260306T231828Z
TZURL:https://www.tzurl.org/zoneinfo-outlook/America/New_York
X-LIC-LOCATION:America/New_York
BEGIN:DAYLIGHT
TZNAME:EDT
TZOFFSETFROM:-0500
TZOFFSETTO:-0400
DTSTART:19700308T020000
RRULE:FREQ=YEARLY;BYMONTH=3;BYDAY=2SU
END:DAYLIGHT
BEGIN:STANDARD
TZNAME:EST
TZOFFSETFROM:-0400
TZOFFSETTO:-0500
DTSTART:19701101T020000
RRULE:FREQ=YEARLY;BYMONTH=11;BYDAY=1SU
END:STANDARD
END:VTIMEZONE
BEGIN:VEVENT
DTSTART;TZID=America/New_York:20241025T150000
DTEND;TZID=America/New_York:20241025T154500
DTSTAMP:20260423T141440Z
UID:{20BB403E-B927-4D5B-81CB7CF9D56B4227}
LOCATION:Online
SUMMARY:Streamlining higher education administration With AI tools
DESCRIPTION:This free US-based Innovative Educators showcases proven strategies to enhance workplace efficiency, improve decision-making, and implement data-driven solutions. \n
 \n
 Event details: https://www.amosshe.org.uk/latest/event-calendar/streamlining-higher-education-administration-with-ai-tools.html
PRIORITY:1
END:VEVENT
END:VCALENDAR