BEGIN:VCALENDAR
PRODID:-//Pixl8//Eventfolio//EN
VERSION:2.0
X-WR-TIMEZONE:Europe/London
CALSCALE:GREGORIAN
METHOD:PUBLISH
CLASS:PUBLIC
BEGIN:VTIMEZONE
TZID:Europe/London
LAST-MODIFIED:20260306T231828Z
TZURL:https://www.tzurl.org/zoneinfo-outlook/Europe/London
X-LIC-LOCATION:Europe/London
BEGIN:DAYLIGHT
TZNAME:BST
TZOFFSETFROM:+0000
TZOFFSETTO:+0100
DTSTART:19700329T010000
RRULE:FREQ=YEARLY;BYMONTH=3;BYDAY=-1SU
END:DAYLIGHT
BEGIN:STANDARD
TZNAME:GMT
TZOFFSETFROM:+0100
TZOFFSETTO:+0000
DTSTART:19701025T020000
RRULE:FREQ=YEARLY;BYMONTH=10;BYDAY=-1SU
END:STANDARD
END:VTIMEZONE
BEGIN:VEVENT
DTSTART;TZID=Europe/London;VALUE=DATE:20250410
DTEND;TZID=Europe/London;VALUE=DATE:20250411
DTSTAMP:20260425T172942Z
UID:{AE2DD985-1249-4401-B1F20542ECB2B48C}
LOCATION:Birmingham\, United Kingdom
SUMMARY:Student engagement conference 2025
DESCRIPTION:This Advance HE event showcases best practice to the community of practitioners in the student engagement space.\n
 \n
 Event details: https://www.amosshe.org.uk/latest/event-calendar/student-engagement-conference-2025.html
PRIORITY:1
END:VEVENT
END:VCALENDAR