BEGIN:VCALENDAR
PRODID:-//Pixl8//Eventfolio//EN
VERSION:2.0
X-WR-TIMEZONE:Europe/London
CALSCALE:GREGORIAN
METHOD:PUBLISH
CLASS:PUBLIC
BEGIN:VTIMEZONE
TZID:Europe/London
LAST-MODIFIED:20260306T231828Z
TZURL:https://www.tzurl.org/zoneinfo-outlook/Europe/London
X-LIC-LOCATION:Europe/London
BEGIN:DAYLIGHT
TZNAME:BST
TZOFFSETFROM:+0000
TZOFFSETTO:+0100
DTSTART:19700329T010000
RRULE:FREQ=YEARLY;BYMONTH=3;BYDAY=-1SU
END:DAYLIGHT
BEGIN:STANDARD
TZNAME:GMT
TZOFFSETFROM:+0100
TZOFFSETTO:+0000
DTSTART:19701025T020000
RRULE:FREQ=YEARLY;BYMONTH=10;BYDAY=-1SU
END:STANDARD
END:VTIMEZONE
BEGIN:VEVENT
DTSTART;TZID=Europe/London;VALUE=DATE:20251209
DTEND;TZID=Europe/London;VALUE=DATE:20251210
DTSTAMP:20260425T201144Z
UID:{5301106D-9B71-4583-8255C69BF5260A6D}
LOCATION:Online
SUMMARY:Student gambling: how university staff can identify, support and safeguard
DESCRIPTION:This free Blackbullion event teaches you how to spot, support, and safeguard students affected by gambling harm.\n
 \n
 Event details: https://www.amosshe.org.uk/latest/event-calendar/student-gambling-how-university-staff-can-identify-support-and-safeguard.html
PRIORITY:1
END:VEVENT
END:VCALENDAR