BEGIN:VCALENDAR
PRODID:-//Pixl8//Eventfolio//EN
VERSION:2.0
X-WR-TIMEZONE:Europe/London
CALSCALE:GREGORIAN
METHOD:PUBLISH
CLASS:PUBLIC
BEGIN:VTIMEZONE
TZID:Europe/London
LAST-MODIFIED:20260306T231828Z
TZURL:https://www.tzurl.org/zoneinfo-outlook/Europe/London
X-LIC-LOCATION:Europe/London
BEGIN:DAYLIGHT
TZNAME:BST
TZOFFSETFROM:+0000
TZOFFSETTO:+0100
DTSTART:19700329T010000
RRULE:FREQ=YEARLY;BYMONTH=3;BYDAY=-1SU
END:DAYLIGHT
BEGIN:STANDARD
TZNAME:GMT
TZOFFSETFROM:+0100
TZOFFSETTO:+0000
DTSTART:19701025T020000
RRULE:FREQ=YEARLY;BYMONTH=10;BYDAY=-1SU
END:STANDARD
END:VTIMEZONE
BEGIN:VEVENT
DTSTART;TZID=Europe/London;VALUE=DATE:20250513
DTEND;TZID=Europe/London;VALUE=DATE:20250514
DTSTAMP:20260425T231124Z
UID:{65D75D2E-88EA-4A93-B4BC38F84E6D28D4}
LOCATION:Online
SUMMARY:Student Housing Investment Conference
DESCRIPTION:This LD Events Property explores the key issues in student housing delivery, operation and investment.\n
 \n
 Event details: https://www.amosshe.org.uk/latest/event-calendar/student-housing-investment-conference.html
PRIORITY:1
END:VEVENT
END:VCALENDAR