BEGIN:VCALENDAR
PRODID:-//Pixl8//Eventfolio//EN
VERSION:2.0
X-WR-TIMEZONE:Europe/London
CALSCALE:GREGORIAN
METHOD:PUBLISH
CLASS:PUBLIC
BEGIN:VTIMEZONE
TZID:Europe/London
LAST-MODIFIED:20260306T231828Z
TZURL:https://www.tzurl.org/zoneinfo-outlook/Europe/London
X-LIC-LOCATION:Europe/London
BEGIN:DAYLIGHT
TZNAME:BST
TZOFFSETFROM:+0000
TZOFFSETTO:+0100
DTSTART:19700329T010000
RRULE:FREQ=YEARLY;BYMONTH=3;BYDAY=-1SU
END:DAYLIGHT
BEGIN:STANDARD
TZNAME:GMT
TZOFFSETFROM:+0100
TZOFFSETTO:+0000
DTSTART:19701025T020000
RRULE:FREQ=YEARLY;BYMONTH=10;BYDAY=-1SU
END:STANDARD
END:VTIMEZONE
BEGIN:VEVENT
DTSTART;TZID=Europe/London;VALUE=DATE:20250129
DTEND;TZID=Europe/London;VALUE=DATE:20250130
DTSTAMP:20260423T141556Z
UID:{5DC01402-4C9F-4248-B03459152AD26836}
LOCATION:Online
SUMMARY:Students as co-creators symposium
DESCRIPTION:This Advance HE event showcases groundbreaking practices that highlight the vital role of mattering in the student experience.\n
 \n
 Event details: https://www.amosshe.org.uk/latest/event-calendar/students-as-co-creators-symposium.html
PRIORITY:1
END:VEVENT
END:VCALENDAR