BEGIN:VCALENDAR
PRODID:-//Pixl8//Eventfolio//EN
VERSION:2.0
X-WR-TIMEZONE:America/New_York
CALSCALE:GREGORIAN
METHOD:PUBLISH
CLASS:PUBLIC
BEGIN:VTIMEZONE
TZID:America/New_York
LAST-MODIFIED:20260306T231828Z
TZURL:https://www.tzurl.org/zoneinfo-outlook/America/New_York
X-LIC-LOCATION:America/New_York
BEGIN:DAYLIGHT
TZNAME:EDT
TZOFFSETFROM:-0500
TZOFFSETTO:-0400
DTSTART:19700308T020000
RRULE:FREQ=YEARLY;BYMONTH=3;BYDAY=2SU
END:DAYLIGHT
BEGIN:STANDARD
TZNAME:EST
TZOFFSETFROM:-0400
TZOFFSETTO:-0500
DTSTART:19701101T020000
RRULE:FREQ=YEARLY;BYMONTH=11;BYDAY=1SU
END:STANDARD
END:VTIMEZONE
BEGIN:VEVENT
DTSTART;TZID=America/New_York;VALUE=DATE:20241104
DTEND;TZID=America/New_York;VALUE=DATE:20241105
DTSTAMP:20260426T040933Z
UID:{F3B91DFF-D82B-4857-9058D01E1E1DE622}
LOCATION:Online
SUMMARY:Supporting families, empowering students: digital solutions for pre-college programs
DESCRIPTION:This US-based Innovative Educators event explores effective communication channels to onboard families, how to guide parents to participate in their child’s pre-college preparation, and more.\n
 \n
 Event details: https://www.amosshe.org.uk/latest/event-calendar/supporting-families-empowering-students-digital-solutions-for-pre-college-programs.html
PRIORITY:1
END:VEVENT
END:VCALENDAR