BEGIN:VCALENDAR
PRODID:-//Pixl8//Eventfolio//EN
VERSION:2.0
X-WR-TIMEZONE:America/New_York
CALSCALE:GREGORIAN
METHOD:PUBLISH
CLASS:PUBLIC
BEGIN:VTIMEZONE
TZID:America/New_York
LAST-MODIFIED:20260306T231828Z
TZURL:https://www.tzurl.org/zoneinfo-outlook/America/New_York
X-LIC-LOCATION:America/New_York
BEGIN:DAYLIGHT
TZNAME:EDT
TZOFFSETFROM:-0500
TZOFFSETTO:-0400
DTSTART:19700308T020000
RRULE:FREQ=YEARLY;BYMONTH=3;BYDAY=2SU
END:DAYLIGHT
BEGIN:STANDARD
TZNAME:EST
TZOFFSETFROM:-0400
TZOFFSETTO:-0500
DTSTART:19701101T020000
RRULE:FREQ=YEARLY;BYMONTH=11;BYDAY=1SU
END:STANDARD
END:VTIMEZONE
BEGIN:VEVENT
DTSTART;TZID=America/New_York:20250325T130000
DTEND;TZID=America/New_York:20250325T141500
DTSTAMP:20260425T163105Z
UID:{A4145923-4120-4A38-8EC28D79C7512914}
LOCATION:Online
SUMMARY:Supporting neurodivergent students: teaching strategies and campus resources
DESCRIPTION:This US-based Innovative Educators event provides practical strategies for making higher education more accessible and effective for neurodivergent students.\n
 \n
 Event details: https://www.amosshe.org.uk/latest/event-calendar/supporting-neurodivergent-students-teaching-strategies-and-campus-resources.html
PRIORITY:1
END:VEVENT
END:VCALENDAR