BEGIN:VCALENDAR
PRODID:-//Pixl8//Eventfolio//EN
VERSION:2.0
X-WR-TIMEZONE:America/New_York
CALSCALE:GREGORIAN
METHOD:PUBLISH
CLASS:PUBLIC
BEGIN:VTIMEZONE
TZID:America/New_York
LAST-MODIFIED:20260306T231828Z
TZURL:https://www.tzurl.org/zoneinfo-outlook/America/New_York
X-LIC-LOCATION:America/New_York
BEGIN:DAYLIGHT
TZNAME:EDT
TZOFFSETFROM:-0500
TZOFFSETTO:-0400
DTSTART:19700308T020000
RRULE:FREQ=YEARLY;BYMONTH=3;BYDAY=2SU
END:DAYLIGHT
BEGIN:STANDARD
TZNAME:EST
TZOFFSETFROM:-0400
TZOFFSETTO:-0500
DTSTART:19701101T020000
RRULE:FREQ=YEARLY;BYMONTH=11;BYDAY=1SU
END:STANDARD
END:VTIMEZONE
BEGIN:VEVENT
DTSTART;TZID=America/New_York;VALUE=DATE:20250528
DTEND;TZID=America/New_York;VALUE=DATE:20250529
DTSTAMP:20260425T162758Z
UID:{A00CD38B-11F3-41C9-B48B4848F05E3C54}
LOCATION:Online
SUMMARY:Supporting new professionals from underrepresented groups in higher education
DESCRIPTION:This US-based ACPA (American College Personnel Association) event provides you with the foundational knowledge to support new professionals from underrepresented groups. \n
 \n
 Event details: https://www.amosshe.org.uk/latest/event-calendar/supporting-new-professionals-from-underrepresented-groups-in-higher-education.html
PRIORITY:1
END:VEVENT
END:VCALENDAR