BEGIN:VCALENDAR
PRODID:-//Pixl8//Eventfolio//EN
VERSION:2.0
X-WR-TIMEZONE:Europe/London
CALSCALE:GREGORIAN
METHOD:PUBLISH
CLASS:PUBLIC
BEGIN:VTIMEZONE
TZID:Europe/London
LAST-MODIFIED:20260306T231828Z
TZURL:https://www.tzurl.org/zoneinfo-outlook/Europe/London
X-LIC-LOCATION:Europe/London
BEGIN:DAYLIGHT
TZNAME:BST
TZOFFSETFROM:+0000
TZOFFSETTO:+0100
DTSTART:19700329T010000
RRULE:FREQ=YEARLY;BYMONTH=3;BYDAY=-1SU
END:DAYLIGHT
BEGIN:STANDARD
TZNAME:GMT
TZOFFSETFROM:+0100
TZOFFSETTO:+0000
DTSTART:19701025T020000
RRULE:FREQ=YEARLY;BYMONTH=10;BYDAY=-1SU
END:STANDARD
END:VTIMEZONE
BEGIN:VEVENT
DTSTART;TZID=Europe/London;VALUE=DATE:20251126
DTEND;TZID=Europe/London;VALUE=DATE:20251127
DTSTAMP:20260425T231731Z
UID:{2BB1FD69-092F-4E41-B2D071F304D64E7F}
LOCATION:Online
SUMMARY:Tackling adult loneliness 2025: designing and delivering effective interventions
DESCRIPTION:This Government Events webinar explores how to tackle the rising tide of adult loneliness through collective action, innovation and collaboration.\n
 \n
 Event details: https://www.amosshe.org.uk/latest/event-calendar/tackling-adult-loneliness-2025-designing-and-delivering-effective-interventions.html
PRIORITY:1
END:VEVENT
END:VCALENDAR