BEGIN:VCALENDAR
PRODID:-//Pixl8//Eventfolio//EN
VERSION:2.0
X-WR-TIMEZONE:Europe/London
CALSCALE:GREGORIAN
METHOD:PUBLISH
CLASS:PUBLIC
BEGIN:VTIMEZONE
TZID:Europe/London
LAST-MODIFIED:20260306T231828Z
TZURL:https://www.tzurl.org/zoneinfo-outlook/Europe/London
X-LIC-LOCATION:Europe/London
BEGIN:DAYLIGHT
TZNAME:BST
TZOFFSETFROM:+0000
TZOFFSETTO:+0100
DTSTART:19700329T010000
RRULE:FREQ=YEARLY;BYMONTH=3;BYDAY=-1SU
END:DAYLIGHT
BEGIN:STANDARD
TZNAME:GMT
TZOFFSETFROM:+0100
TZOFFSETTO:+0000
DTSTART:19701025T020000
RRULE:FREQ=YEARLY;BYMONTH=10;BYDAY=-1SU
END:STANDARD
END:VTIMEZONE
BEGIN:VEVENT
DTSTART;TZID=Europe/London;VALUE=DATE:20250213
DTEND;TZID=Europe/London;VALUE=DATE:20250214
DTSTAMP:20260425T231258Z
UID:{5B2C057E-7F01-48EA-84FF9B967CF6353A}
LOCATION:London\, United Kingdom
SUMMARY:Tackling violence, harassment and hate incidents 2025
DESCRIPTION:This Universities UK (UUK) event addresses the most pressing developments and progress in ensuring free speech is protected and that regulatory requirements are being met, as well as combating violence, harassment, and hate incidents in higher education.\n
 \n
 Event details: https://www.amosshe.org.uk/latest/event-calendar/tackling-violence-harassment-and-hate-incidents-2025.html
PRIORITY:1
END:VEVENT
END:VCALENDAR