BEGIN:VCALENDAR
PRODID:-//Pixl8//Eventfolio//EN
VERSION:2.0
X-WR-TIMEZONE:Europe/London
CALSCALE:GREGORIAN
METHOD:PUBLISH
CLASS:PUBLIC
BEGIN:VTIMEZONE
TZID:Europe/London
LAST-MODIFIED:20260306T231828Z
TZURL:https://www.tzurl.org/zoneinfo-outlook/Europe/London
X-LIC-LOCATION:Europe/London
BEGIN:DAYLIGHT
TZNAME:BST
TZOFFSETFROM:+0000
TZOFFSETTO:+0100
DTSTART:19700329T010000
RRULE:FREQ=YEARLY;BYMONTH=3;BYDAY=-1SU
END:DAYLIGHT
BEGIN:STANDARD
TZNAME:GMT
TZOFFSETFROM:+0100
TZOFFSETTO:+0000
DTSTART:19701025T020000
RRULE:FREQ=YEARLY;BYMONTH=10;BYDAY=-1SU
END:STANDARD
END:VTIMEZONE
BEGIN:VEVENT
DTSTART;TZID=Europe/London;VALUE=DATE:20250915
DTEND;TZID=Europe/London;VALUE=DATE:20250916
DTSTAMP:20260423T111202Z
UID:{9A665558-90C0-4293-A0F5AFCD5169989E}
LOCATION:Online
SUMMARY:Talking about suicide
DESCRIPTION:This free Charlie Waller Trust event shares how to feel more confident talking to young people about suicide and suicide ideation.\n
 \n
 Event details: https://www.amosshe.org.uk/latest/event-calendar/talking-about-suicide.html
PRIORITY:1
END:VEVENT
END:VCALENDAR