BEGIN:VCALENDAR
PRODID:-//Pixl8//Eventfolio//EN
VERSION:2.0
X-WR-TIMEZONE:Europe/London
CALSCALE:GREGORIAN
METHOD:PUBLISH
CLASS:PUBLIC
BEGIN:VTIMEZONE
TZID:Europe/London
LAST-MODIFIED:20260306T231828Z
TZURL:https://www.tzurl.org/zoneinfo-outlook/Europe/London
X-LIC-LOCATION:Europe/London
BEGIN:DAYLIGHT
TZNAME:BST
TZOFFSETFROM:+0000
TZOFFSETTO:+0100
DTSTART:19700329T010000
RRULE:FREQ=YEARLY;BYMONTH=3;BYDAY=-1SU
END:DAYLIGHT
BEGIN:STANDARD
TZNAME:GMT
TZOFFSETFROM:+0100
TZOFFSETTO:+0000
DTSTART:19701025T020000
RRULE:FREQ=YEARLY;BYMONTH=10;BYDAY=-1SU
END:STANDARD
END:VTIMEZONE
BEGIN:VEVENT
DTSTART;TZID=Europe/London;VALUE=DATE:20250429
DTEND;TZID=Europe/London;VALUE=DATE:20250501
DTSTAMP:20260425T163050Z
UID:{4C50B82F-2524-48FC-B0C16A0AD94AE15C}
LOCATION:Coventry\, United Kingdom
SUMMARY:TASO annual conference 2025: How to evaluate
DESCRIPTION:This TASO (Transforming Access and Student Outcomes in Higher Education) helps you develop your evaluation expertise and deepen your understanding of how your work impacts equality of opportunity in higher education.\n
 \n
 Event details: https://www.amosshe.org.uk/latest/event-calendar/taso-annual-conference-2025-how-to-evaluate.html
PRIORITY:1
END:VEVENT
END:VCALENDAR