BEGIN:VCALENDAR
PRODID:-//Pixl8//Eventfolio//EN
VERSION:2.0
X-WR-TIMEZONE:Europe/London
CALSCALE:GREGORIAN
METHOD:PUBLISH
CLASS:PUBLIC
BEGIN:VTIMEZONE
TZID:Europe/London
LAST-MODIFIED:20260306T231828Z
TZURL:https://www.tzurl.org/zoneinfo-outlook/Europe/London
X-LIC-LOCATION:Europe/London
BEGIN:DAYLIGHT
TZNAME:BST
TZOFFSETFROM:+0000
TZOFFSETTO:+0100
DTSTART:19700329T010000
RRULE:FREQ=YEARLY;BYMONTH=3;BYDAY=-1SU
END:DAYLIGHT
BEGIN:STANDARD
TZNAME:GMT
TZOFFSETFROM:+0100
TZOFFSETTO:+0000
DTSTART:19701025T020000
RRULE:FREQ=YEARLY;BYMONTH=10;BYDAY=-1SU
END:STANDARD
END:VTIMEZONE
BEGIN:VEVENT
DTSTART;TZID=Europe/London;VALUE=DATE:20241113
DTEND;TZID=Europe/London;VALUE=DATE:20241115
DTSTAMP:20260423T113638Z
UID:{F54B9DF9-68AF-4360-B120F13868A83ABF}
LOCATION:London\, United Kingdom
SUMMARY:TechShare Pro 2024
DESCRIPTION:This AbilityNet event is the premier gathering for the global disability and technology community, discussing the European Accessibility Act, accessibility leadership and artificial intelligence in accessibility.\n
 \n
 Event details: https://www.amosshe.org.uk/latest/event-calendar/techshare-pro-2024.html
PRIORITY:1
END:VEVENT
END:VCALENDAR