BEGIN:VCALENDAR
PRODID:-//Pixl8//Eventfolio//EN
VERSION:2.0
X-WR-TIMEZONE:Europe/London
CALSCALE:GREGORIAN
METHOD:PUBLISH
CLASS:PUBLIC
BEGIN:VTIMEZONE
TZID:Europe/London
LAST-MODIFIED:20260306T231828Z
TZURL:https://www.tzurl.org/zoneinfo-outlook/Europe/London
X-LIC-LOCATION:Europe/London
BEGIN:DAYLIGHT
TZNAME:BST
TZOFFSETFROM:+0000
TZOFFSETTO:+0100
DTSTART:19700329T010000
RRULE:FREQ=YEARLY;BYMONTH=3;BYDAY=-1SU
END:DAYLIGHT
BEGIN:STANDARD
TZNAME:GMT
TZOFFSETFROM:+0100
TZOFFSETTO:+0000
DTSTART:19701025T020000
RRULE:FREQ=YEARLY;BYMONTH=10;BYDAY=-1SU
END:STANDARD
END:VTIMEZONE
BEGIN:VEVENT
DTSTART;TZID=Europe/London;VALUE=DATE:20241204
DTEND;TZID=Europe/London;VALUE=DATE:20241205
DTSTAMP:20260423T111054Z
UID:{E83B880C-335D-4744-88604B5881EBE194}
LOCATION:Online
SUMMARY:Telling stories with data
DESCRIPTION:This Understanding ModernGov event helps you build the confidence to craft any complex data into a compelling, impactful story that will drive action.\n
 \n
 Event details: https://www.amosshe.org.uk/latest/event-calendar/telling-stories-with-data.html
PRIORITY:1
END:VEVENT
END:VCALENDAR