BEGIN:VCALENDAR
PRODID:-//Pixl8//Eventfolio//EN
VERSION:2.0
X-WR-TIMEZONE:Europe/London
CALSCALE:GREGORIAN
METHOD:PUBLISH
CLASS:PUBLIC
BEGIN:VTIMEZONE
TZID:Europe/London
LAST-MODIFIED:20260306T231828Z
TZURL:https://www.tzurl.org/zoneinfo-outlook/Europe/London
X-LIC-LOCATION:Europe/London
BEGIN:DAYLIGHT
TZNAME:BST
TZOFFSETFROM:+0000
TZOFFSETTO:+0100
DTSTART:19700329T010000
RRULE:FREQ=YEARLY;BYMONTH=3;BYDAY=-1SU
END:DAYLIGHT
BEGIN:STANDARD
TZNAME:GMT
TZOFFSETFROM:+0100
TZOFFSETTO:+0000
DTSTART:19701025T020000
RRULE:FREQ=YEARLY;BYMONTH=10;BYDAY=-1SU
END:STANDARD
END:VTIMEZONE
BEGIN:VEVENT
DTSTART;TZID=Europe/London;VALUE=DATE:20240917
DTEND;TZID=Europe/London;VALUE=DATE:20240918
DTSTAMP:20260425T231401Z
UID:{74559F1B-7C91-4D71-BB5203B0E34B0A3E}
LOCATION:Virtual
SUMMARY:The allyship in the workplace conference 2024
DESCRIPTION:This Government Events conference offers the latest updates from experts on developing and promoting a culture of allyship and supporting people of all backgrounds in the workplace.\n
 \n
 Event details: https://www.amosshe.org.uk/latest/event-calendar/the-allyship-in-the-workplace-conference-2024.html
PRIORITY:1
END:VEVENT
END:VCALENDAR