BEGIN:VCALENDAR
PRODID:-//Pixl8//Eventfolio//EN
VERSION:2.0
X-WR-TIMEZONE:Europe/London
CALSCALE:GREGORIAN
METHOD:PUBLISH
CLASS:PUBLIC
BEGIN:VTIMEZONE
TZID:Europe/London
LAST-MODIFIED:20260306T231828Z
TZURL:https://www.tzurl.org/zoneinfo-outlook/Europe/London
X-LIC-LOCATION:Europe/London
BEGIN:DAYLIGHT
TZNAME:BST
TZOFFSETFROM:+0000
TZOFFSETTO:+0100
DTSTART:19700329T010000
RRULE:FREQ=YEARLY;BYMONTH=3;BYDAY=-1SU
END:DAYLIGHT
BEGIN:STANDARD
TZNAME:GMT
TZOFFSETFROM:+0100
TZOFFSETTO:+0000
DTSTART:19701025T020000
RRULE:FREQ=YEARLY;BYMONTH=10;BYDAY=-1SU
END:STANDARD
END:VTIMEZONE
BEGIN:VEVENT
DTSTART;TZID=Europe/London;VALUE=DATE:20250116
DTEND;TZID=Europe/London;VALUE=DATE:20250117
DTSTAMP:20260423T161623Z
UID:{3BF34B9C-985D-4F80-9A8BE3BFFBB1BB37}
LOCATION:Online
SUMMARY:The future of work is human connection
DESCRIPTION:This free Impact Factory event brings you a fresh perspective on how to balance innovation with human connection.\n
 \n
 Event details: https://www.amosshe.org.uk/latest/event-calendar/the-future-of-work-is-human-connection.html
PRIORITY:1
END:VEVENT
END:VCALENDAR