BEGIN:VCALENDAR
PRODID:-//Pixl8//Eventfolio//EN
VERSION:2.0
X-WR-TIMEZONE:Europe/London
CALSCALE:GREGORIAN
METHOD:PUBLISH
CLASS:PUBLIC
BEGIN:VTIMEZONE
TZID:Europe/London
LAST-MODIFIED:20260306T231828Z
TZURL:https://www.tzurl.org/zoneinfo-outlook/Europe/London
X-LIC-LOCATION:Europe/London
BEGIN:DAYLIGHT
TZNAME:BST
TZOFFSETFROM:+0000
TZOFFSETTO:+0100
DTSTART:19700329T010000
RRULE:FREQ=YEARLY;BYMONTH=3;BYDAY=-1SU
END:DAYLIGHT
BEGIN:STANDARD
TZNAME:GMT
TZOFFSETFROM:+0100
TZOFFSETTO:+0000
DTSTART:19701025T020000
RRULE:FREQ=YEARLY;BYMONTH=10;BYDAY=-1SU
END:STANDARD
END:VTIMEZONE
BEGIN:VEVENT
DTSTART;TZID=Europe/London;VALUE=DATE:20241121
DTEND;TZID=Europe/London;VALUE=DATE:20241122
DTSTAMP:20260425T231559Z
UID:{D7E2FFA5-4766-47EF-8D78EF7C0BBE731C}
LOCATION:Online
SUMMARY:The inclusion, diversity and equality in the workplace conference 2024
DESCRIPTION:This Government Events conference helps you gain valuable Insights into the latest trends, best practices, and strategies for promoting equality, diversity and inclusion in the workplace. \n
 \n
 Event details: https://www.amosshe.org.uk/latest/event-calendar/the-inclusion-diversity-and-equality-in-the-workplace-conference-2024.html
PRIORITY:1
END:VEVENT
END:VCALENDAR