BEGIN:VCALENDAR
PRODID:-//Pixl8//Eventfolio//EN
VERSION:2.0
X-WR-TIMEZONE:Europe/London
CALSCALE:GREGORIAN
METHOD:PUBLISH
CLASS:PUBLIC
BEGIN:VTIMEZONE
TZID:Europe/London
LAST-MODIFIED:20260306T231828Z
TZURL:https://www.tzurl.org/zoneinfo-outlook/Europe/London
X-LIC-LOCATION:Europe/London
BEGIN:DAYLIGHT
TZNAME:BST
TZOFFSETFROM:+0000
TZOFFSETTO:+0100
DTSTART:19700329T010000
RRULE:FREQ=YEARLY;BYMONTH=3;BYDAY=-1SU
END:DAYLIGHT
BEGIN:STANDARD
TZNAME:GMT
TZOFFSETFROM:+0100
TZOFFSETTO:+0000
DTSTART:19701025T020000
RRULE:FREQ=YEARLY;BYMONTH=10;BYDAY=-1SU
END:STANDARD
END:VTIMEZONE
BEGIN:VEVENT
DTSTART;TZID=Europe/London;VALUE=DATE:20250227
DTEND;TZID=Europe/London;VALUE=DATE:20250228
DTSTAMP:20260425T173033Z
UID:{D9120CE2-FB24-4581-8D079BF4CE1DD3BD}
LOCATION:Sheffield\, United Kingdom
SUMMARY:The national codes student experience conference 2025
DESCRIPTION:This Unipol event aims to evolve and improve the living experience for students during their time in higher education.\n
 \n
 Event details: https://www.amosshe.org.uk/latest/event-calendar/the-national-codes-student-experience-conference-2025.html
PRIORITY:1
END:VEVENT
END:VCALENDAR