BEGIN:VCALENDAR
PRODID:-//Pixl8//Eventfolio//EN
VERSION:2.0
X-WR-TIMEZONE:Europe/London
CALSCALE:GREGORIAN
METHOD:PUBLISH
CLASS:PUBLIC
BEGIN:VTIMEZONE
TZID:Europe/London
LAST-MODIFIED:20260306T231828Z
TZURL:https://www.tzurl.org/zoneinfo-outlook/Europe/London
X-LIC-LOCATION:Europe/London
BEGIN:DAYLIGHT
TZNAME:BST
TZOFFSETFROM:+0000
TZOFFSETTO:+0100
DTSTART:19700329T010000
RRULE:FREQ=YEARLY;BYMONTH=3;BYDAY=-1SU
END:DAYLIGHT
BEGIN:STANDARD
TZNAME:GMT
TZOFFSETFROM:+0100
TZOFFSETTO:+0000
DTSTART:19701025T020000
RRULE:FREQ=YEARLY;BYMONTH=10;BYDAY=-1SU
END:STANDARD
END:VTIMEZONE
BEGIN:VEVENT
DTSTART;TZID=Europe/London;VALUE=DATE:20241121
DTEND;TZID=Europe/London;VALUE=DATE:20241122
DTSTAMP:20260425T231607Z
UID:{7F71CF3B-0D13-4EC7-97EF124B029A1B9A}
LOCATION:Manchester\, United Kingdom
SUMMARY:The National Safeguarding Children 2024 Conference
DESCRIPTION:This Open Forum Events conference brings together professionals from various fields to discuss best practice, share knowledge, and collaborate on strategies to protect young people from harm.\n
 \n
 Event details: https://www.amosshe.org.uk/latest/event-calendar/the-national-safeguarding-children-2024-conference.html
PRIORITY:1
END:VEVENT
END:VCALENDAR