BEGIN:VCALENDAR
PRODID:-//Pixl8//Eventfolio//EN
VERSION:2.0
X-WR-TIMEZONE:Europe/London
CALSCALE:GREGORIAN
METHOD:PUBLISH
CLASS:PUBLIC
BEGIN:VTIMEZONE
TZID:Europe/London
LAST-MODIFIED:20260306T231828Z
TZURL:https://www.tzurl.org/zoneinfo-outlook/Europe/London
X-LIC-LOCATION:Europe/London
BEGIN:DAYLIGHT
TZNAME:BST
TZOFFSETFROM:+0000
TZOFFSETTO:+0100
DTSTART:19700329T010000
RRULE:FREQ=YEARLY;BYMONTH=3;BYDAY=-1SU
END:DAYLIGHT
BEGIN:STANDARD
TZNAME:GMT
TZOFFSETFROM:+0100
TZOFFSETTO:+0000
DTSTART:19701025T020000
RRULE:FREQ=YEARLY;BYMONTH=10;BYDAY=-1SU
END:STANDARD
END:VTIMEZONE
BEGIN:VEVENT
DTSTART;TZID=Europe/London;VALUE=DATE:20250402
DTEND;TZID=Europe/London;VALUE=DATE:20250403
DTSTAMP:20260425T231725Z
UID:{EACE8621-D32C-49C8-8B4FE2235E9BFA6F}
LOCATION:Online
SUMMARY:The recruitment and retention in the workplace conference 2025
DESCRIPTION:This Government Events event gets you to learn from leaders in the private, public, and third sectors on strategies to attract new employees, retain and upskill existing employees, and unlock new streams of talent.\n
 \n
 Event details: https://www.amosshe.org.uk/latest/event-calendar/the-recruitment-and-retention-in-the-workplace-conference-2025.html
PRIORITY:1
END:VEVENT
END:VCALENDAR