BEGIN:VCALENDAR
PRODID:-//Pixl8//Eventfolio//EN
VERSION:2.0
X-WR-TIMEZONE:Europe/London
CALSCALE:GREGORIAN
METHOD:PUBLISH
CLASS:PUBLIC
BEGIN:VTIMEZONE
TZID:Europe/London
LAST-MODIFIED:20260306T231828Z
TZURL:https://www.tzurl.org/zoneinfo-outlook/Europe/London
X-LIC-LOCATION:Europe/London
BEGIN:DAYLIGHT
TZNAME:BST
TZOFFSETFROM:+0000
TZOFFSETTO:+0100
DTSTART:19700329T010000
RRULE:FREQ=YEARLY;BYMONTH=3;BYDAY=-1SU
END:DAYLIGHT
BEGIN:STANDARD
TZNAME:GMT
TZOFFSETFROM:+0100
TZOFFSETTO:+0000
DTSTART:19701025T020000
RRULE:FREQ=YEARLY;BYMONTH=10;BYDAY=-1SU
END:STANDARD
END:VTIMEZONE
BEGIN:VEVENT
DTSTART;TZID=Europe/London;VALUE=DATE:20260226
DTEND;TZID=Europe/London;VALUE=DATE:20260227
DTSTAMP:20260425T163357Z
UID:{A4CF77A1-8361-405C-8C62551D95A18F80}
LOCATION:Online
SUMMARY:The safeguarding students in higher education conference 2026
DESCRIPTION:This Government Events gathers sector leaders, policymakers, and frontline practitioners that’ll explore how to meet these new expectations from the Office for Students E6 condition of registration.\n
 \n
 Event details: https://www.amosshe.org.uk/latest/event-calendar/the-safeguarding-students-in-higher-education-conference-2026.html
PRIORITY:1
END:VEVENT
END:VCALENDAR