BEGIN:VCALENDAR
PRODID:-//Pixl8//Eventfolio//EN
VERSION:2.0
X-WR-TIMEZONE:Europe/London
CALSCALE:GREGORIAN
METHOD:PUBLISH
CLASS:PUBLIC
BEGIN:VTIMEZONE
TZID:Europe/London
LAST-MODIFIED:20260306T231828Z
TZURL:https://www.tzurl.org/zoneinfo-outlook/Europe/London
X-LIC-LOCATION:Europe/London
BEGIN:DAYLIGHT
TZNAME:BST
TZOFFSETFROM:+0000
TZOFFSETTO:+0100
DTSTART:19700329T010000
RRULE:FREQ=YEARLY;BYMONTH=3;BYDAY=-1SU
END:DAYLIGHT
BEGIN:STANDARD
TZNAME:GMT
TZOFFSETFROM:+0100
TZOFFSETTO:+0000
DTSTART:19701025T020000
RRULE:FREQ=YEARLY;BYMONTH=10;BYDAY=-1SU
END:STANDARD
END:VTIMEZONE
BEGIN:VEVENT
DTSTART;TZID=Europe/London;VALUE=DATE:20251016
DTEND;TZID=Europe/London;VALUE=DATE:20251017
DTSTAMP:20260423T112002Z
UID:{B4D237D2-185B-486F-BFA4E118781DA4C4}
LOCATION:Online
SUMMARY:The secrets of international student success
DESCRIPTION:This free Times Higher Education event shares how universities can provide the support that international students need to succeed inside, and outside the classroom.\n
 \n
 Event details: https://www.amosshe.org.uk/latest/event-calendar/the-secrets-of-international-student-success.html
PRIORITY:1
END:VEVENT
END:VCALENDAR